BEGIN:VCALENDAR
VERSION:2.0
PRODID:-//wp-events-plugin.com//7.2.3.1//EN
TZID:Europe/Berlin
X-WR-TIMEZONE:Europe/Berlin
BEGIN:VEVENT
UID:1295@xc-ski.de
DTSTART;TZID=Europe/Berlin;VALUE=DATE:20260112
DTEND;TZID=Europe/Berlin;VALUE=DATE:20260119
DTSTAMP:20250627T064436Z
URL:https://www.xc-ski.de/aktuelles/termine/biathlon-ibu-cup-brezno-osrbli
 e-svk-3/
SUMMARY:Biathlon IBU Cup Brezno-Osrblie (SVK)
DESCRIPTION:Der nächste Biathlon IBU Cup im Jahr 2026 findet in der Slowak
 ei in Brezno-Osrblie statt und ist damit der letzte vor den Biathlon Europ
 ameisterschaften...
ATTACH;FMTTYPE=image/jpeg:https://www.xc-ski.de/wp-content/uploads/2021/02
 /osrblie-1.jpg
CATEGORIES:FIS/IBU-Rennen
LOCATION:Osrblie Biathlon Centre\, Osrblie Biathlon Centre\, Osrblie\, 9764
 5\, Slowakei
GEO:48.755617;19.518193
X-APPLE-STRUCTURED-LOCATION;VALUE=URI;X-ADDRESS=Osrblie Biathlon Centre\, O
 srblie\, 97645\, Slowakei;X-APPLE-RADIUS=100;X-TITLE=Osrblie Biathlon Cent
 re:geo:48.755617,19.518193
END:VEVENT
BEGIN:VTIMEZONE
TZID:Europe/Berlin
X-LIC-LOCATION:Europe/Berlin
BEGIN:STANDARD
DTSTART:20251026T020000
TZOFFSETFROM:+0200
TZOFFSETTO:+0100
TZNAME:CET
END:STANDARD
END:VTIMEZONE
END:VCALENDAR