BEGIN:VCALENDAR
VERSION:2.0
PRODID:-//wp-events-plugin.com//7.2.3.1//EN
TZID:Europe/Berlin
X-WR-TIMEZONE:Europe/Berlin
BEGIN:VEVENT
UID:1293@xc-ski.de
DTSTART;TZID=Europe/Berlin;VALUE=DATE:20251215
DTEND;TZID=Europe/Berlin;VALUE=DATE:20251222
DTSTAMP:20250627T064100Z
URL:https://www.xc-ski.de/aktuelles/termine/biathlon-ibu-cup-lenzerheide-s
 ui/
SUMMARY:Biathlon IBU Cup Lenzerheide (SUI)
DESCRIPTION:In der Biathlon Arena in Lenzerheide (SUI) findet 2025 der letz
 te IBU Cup vor der Weihnachtspause statt...
ATTACH;FMTTYPE=image/jpeg:https://www.xc-ski.de/wp-content/uploads/2023/12
 /Feature121223cm13.jpg
CATEGORIES:FIS/IBU-Rennen
LOCATION:Roland Arena\, Voia da\, Alp Bual 1\, Lantsch\, Schweiz
GEO:46.692289;9.558578
X-APPLE-STRUCTURED-LOCATION;VALUE=URI;X-ADDRESS=Voia da\, Alp Bual 1\, Lant
 sch\, Schweiz;X-APPLE-RADIUS=100;X-TITLE=Roland Arena:geo:46.692289,9.5585
 78
END:VEVENT
BEGIN:VTIMEZONE
TZID:Europe/Berlin
X-LIC-LOCATION:Europe/Berlin
BEGIN:STANDARD
DTSTART:20251026T020000
TZOFFSETFROM:+0200
TZOFFSETTO:+0100
TZNAME:CET
END:STANDARD
END:VTIMEZONE
END:VCALENDAR