BEGIN:VCALENDAR
VERSION:2.0
PRODID:-//wp-events-plugin.com//7.2.3.1//EN
TZID:Europe/Berlin
X-WR-TIMEZONE:Europe/Berlin
BEGIN:VEVENT
UID:1291@xc-ski.de
DTSTART;TZID=Europe/Berlin;VALUE=DATE:20251201
DTEND;TZID=Europe/Berlin;VALUE=DATE:20251208
DTSTAMP:20250627T063645Z
URL:https://www.xc-ski.de/aktuelles/termine/biathlon-ibu-cup-obertilliach-
 oesterreich-3/
SUMMARY:Biathlon IBU Cup Obertilliach (Österreich)
DESCRIPTION:In Obertilliach in Österreich findet der erste Biathlon IBU Cu
 p der Saison 2025/26 statt...
ATTACH;FMTTYPE=image/jpeg:https://www.xc-ski.de/wp-content/uploads/2021/03
 /Obertilliach.jpg
CATEGORIES:FIS/IBU-Rennen
LOCATION:Biathlon\, Langlaufzentrum Obertilliach\, Rodarm 25\, Obertilliach
 \, Österreich
GEO:46.709823;12.605843
X-APPLE-STRUCTURED-LOCATION;VALUE=URI;X-ADDRESS=Rodarm 25\, Obertilliach\, 
 Österreich;X-APPLE-RADIUS=100;X-TITLE=Biathlon\, Langlaufzentrum Obertill
 iach:geo:46.709823,12.605843
END:VEVENT
BEGIN:VTIMEZONE
TZID:Europe/Berlin
X-LIC-LOCATION:Europe/Berlin
BEGIN:STANDARD
DTSTART:20251026T020000
TZOFFSETFROM:+0200
TZOFFSETTO:+0100
TZNAME:CET
END:STANDARD
END:VTIMEZONE
END:VCALENDAR