BEGIN:VCALENDAR
VERSION:2.0
PRODID:-//wp-events-plugin.com//7.2.3.1//EN
TZID:Europe/Berlin
X-WR-TIMEZONE:Europe/Berlin
BEGIN:VEVENT
UID:1292@xc-ski.de
DTSTART;TZID=Europe/Berlin;VALUE=DATE:20251208
DTEND;TZID=Europe/Berlin;VALUE=DATE:20251215
DTSTAMP:20250627T063858Z
URL:https://www.xc-ski.de/aktuelles/termine/biathlon-ibu-cup-ridnaun-itali
 en-3/
SUMMARY:Biathlon IBU Cup Ridnaun (Italien)
DESCRIPTION:Der zweite Biathlon IBU Cup der Saison 2025/26 findet in Ridnau
 n (ITA) statt...
ATTACH;FMTTYPE=image/jpeg:https://www.xc-ski.de/wp-content/uploads/2020/05
 /D4N_9615.jpg
CATEGORIES:FIS/IBU-Rennen
LOCATION:Biathlon Ridnaun\, Maiern 21\, Ridnaun\, 39040\, Italien
GEO:46.910582;11.304733
X-APPLE-STRUCTURED-LOCATION;VALUE=URI;X-ADDRESS=Maiern 21\, Ridnaun\, 39040
 \, Italien;X-APPLE-RADIUS=100;X-TITLE=Biathlon Ridnaun:geo:46.910582,11.30
 4733
END:VEVENT
BEGIN:VTIMEZONE
TZID:Europe/Berlin
X-LIC-LOCATION:Europe/Berlin
BEGIN:STANDARD
DTSTART:20251026T020000
TZOFFSETFROM:+0200
TZOFFSETTO:+0100
TZNAME:CET
END:STANDARD
END:VTIMEZONE
END:VCALENDAR