BEGIN:VCALENDAR
VERSION:2.0
PRODID:-//wp-events-plugin.com//7.2.3.1//EN
TZID:Europe/Berlin
X-WR-TIMEZONE:Europe/Berlin
BEGIN:VEVENT
UID:1166@xc-ski.de
DTSTART;TZID=Europe/Berlin;VALUE=DATE:20250226
DTEND;TZID=Europe/Berlin;VALUE=DATE:20250306
DTSTAMP:20250226T115348Z
URL:https://www.xc-ski.de/aktuelles/termine/biathlon-ibu-jugend-und-junior
 en-wm-2025-oestersund-swe/
SUMMARY:Biathlon IBU Jugend- und Junioren WM 2025 Östersund (SWE)
DESCRIPTION:Die Biathlon Jugend- und Junioren-Weltmeisterschaften 2025 find
 en in Östersund in Schweden statt. Jugendliche der Jahrgänge 2006-2009 s
 ind gleichermaßen startberechtigt als die Junioren der Jahrgänge 2003-20
 05.
ATTACH;FMTTYPE=image/jpeg:https://www.xc-ski.de/wp-content/uploads/2023/11
 /Feature251123cm46499.jpg
CATEGORIES:Weltmeisterschaft
LOCATION:Östersunds Skistadion\, Ösk-vägen 7\, Östersund\, 83191\, Schw
 eden
GEO:63.1897608;14.657902700000022
X-APPLE-STRUCTURED-LOCATION;VALUE=URI;X-ADDRESS=Ösk-vägen 7\, Östersund\
 , 83191\, Schweden;X-APPLE-RADIUS=100;X-TITLE=Östersunds Skistadion:geo:6
 3.1897608,14.657902700000022
END:VEVENT
BEGIN:VTIMEZONE
TZID:Europe/Berlin
X-LIC-LOCATION:Europe/Berlin
BEGIN:STANDARD
DTSTART:20241027T020000
TZOFFSETFROM:+0200
TZOFFSETTO:+0100
TZNAME:CET
END:STANDARD
END:VTIMEZONE
END:VCALENDAR