BEGIN:VCALENDAR
VERSION:2.0
PRODID:-//wp-events-plugin.com//7.2.3.1//EN
TZID:Europe/Berlin
X-WR-TIMEZONE:Europe/Berlin
BEGIN:VEVENT
UID:1296@xc-ski.de
DTSTART;TZID=Europe/Berlin;VALUE=DATE:20260126
DTEND;TZID=Europe/Berlin;VALUE=DATE:20260202
DTSTAMP:20250627T064738Z
URL:https://www.xc-ski.de/aktuelles/termine/biathlon-offene-europa-meister
 schaften-2026-sjusjoen-nor/
SUMMARY:Biathlon Offene Europa Meisterschaften 2026 Sjusjoen (NOR)
DESCRIPTION:Die offenen Biathlon Europa Meisterschaften der Saison 2025/26 
 finden in Sjusjoen in Norwegen statt...
ATTACH;FMTTYPE=image/jpeg:https://www.xc-ski.de/wp-content/uploads/2020/07
 /Super-Sprint.jpg
CATEGORIES:FIS/IBU-Rennen
LOCATION:Sjusjoen Skisenter\, Sjusjoen Skisenter\, Sjusjoen\, Norwegen
GEO:61.153173;10.693677
X-APPLE-STRUCTURED-LOCATION;VALUE=URI;X-ADDRESS=Sjusjoen Skisenter\, Sjusjo
 en\, Norwegen;X-APPLE-RADIUS=100;X-TITLE=Sjusjoen Skisenter:geo:61.153173,
 10.693677
END:VEVENT
BEGIN:VTIMEZONE
TZID:Europe/Berlin
X-LIC-LOCATION:Europe/Berlin
BEGIN:STANDARD
DTSTART:20251026T020000
TZOFFSETFROM:+0200
TZOFFSETTO:+0100
TZNAME:CET
END:STANDARD
END:VTIMEZONE
END:VCALENDAR