BEGIN:VCALENDAR
VERSION:2.0
PRODID:-//wp-events-plugin.com//7.2.3.1//EN
TZID:Europe/Berlin
X-WR-TIMEZONE:Europe/Berlin
BEGIN:VEVENT
UID:1301@xc-ski.de
DTSTART;TZID=Europe/Berlin;VALUE=DATE:20251212
DTEND;TZID=Europe/Berlin;VALUE=DATE:20251215
DTSTAMP:20251125T104943Z
URL:https://www.xc-ski.de/aktuelles/termine/fis-langlauf-weltcup-davos-sch
 weiz-9/
SUMMARY:FIS Langlauf Weltcup Davos (Schweiz)
DESCRIPTION:Davos\, der Langlauf-Ort auf fast 1600 Meter Höhe\, begrüßt 
 wieder kurz vor Weihnachten den Langlauf Weltcup. Wie im Vorjahr werden do
 rt Teamsprint\, Sprint und Einzelstart ausgetragen...
ATTACH;FMTTYPE=image/jpeg:https://www.xc-ski.de/wp-content/uploads/2024/01
 /Group030124fm339.jpg
CATEGORIES:Langlauf-Weltcup,Weltcup
LOCATION:Bünda Skistadion Davos\, Bedraweg 11\, Davos\, Graubünden\, 7260
 \, Prättigau/Davos\, Schweiz
GEO:46.80865;9.847273
X-APPLE-STRUCTURED-LOCATION;VALUE=URI;X-ADDRESS=Bedraweg 11\, Davos\, Graub
 ünden\, 7260\, Prättigau/Davos\, Schweiz;X-APPLE-RADIUS=100;X-TITLE=Bün
 da Skistadion Davos:geo:46.80865,9.847273
END:VEVENT
BEGIN:VTIMEZONE
TZID:Europe/Berlin
X-LIC-LOCATION:Europe/Berlin
BEGIN:STANDARD
DTSTART:20251026T020000
TZOFFSETFROM:+0200
TZOFFSETTO:+0100
TZNAME:CET
END:STANDARD
END:VTIMEZONE
END:VCALENDAR