BEGIN:VCALENDAR
VERSION:2.0
PRODID:-//wp-events-plugin.com//7.2.3.1//EN
TZID:Europe/Berlin
X-WR-TIMEZONE:Europe/Berlin
BEGIN:VEVENT
UID:1282@xc-ski.de
DTSTART;TZID=Europe/Berlin;VALUE=DATE:20260122
DTEND;TZID=Europe/Berlin;VALUE=DATE:20260126
DTSTAMP:20260121T073040Z
URL:https://www.xc-ski.de/aktuelles/termine/ibu-biathlon-weltcup-nove-mest
 o-tschechische-republik-4/
SUMMARY:IBU Biathlon Weltcup Nove Mesto (Tschechische Republik)
DESCRIPTION:In Nove Mesto na Morave findet der letzte Biathlon Weltcup der 
 Saison 2025/26 vor den Olympischen Winterspielen statt...
ATTACH;FMTTYPE=image/jpeg:https://www.xc-ski.de/wp-content/uploads/2018/09
 /stadion_nove_mesto.jpg
CATEGORIES:Biathlon-Weltcup,Weltcup
LOCATION:Vysocina Arena Nove Mesto\, Vlachovická 1200\, Nové Město na Mo
 ravě\, Mähren\, 592 31\, Vysočina\, Tschechische Republik
GEO:49.578205;16.05296
X-APPLE-STRUCTURED-LOCATION;VALUE=URI;X-ADDRESS=Vlachovická 1200\, Nové M
 ěsto na Moravě\, Mähren\, 592 31\, Vysočina\, Tschechische Republik;X-
 APPLE-RADIUS=100;X-TITLE=Vysocina Arena Nove Mesto:geo:49.578205,16.05296
END:VEVENT
BEGIN:VTIMEZONE
TZID:Europe/Berlin
X-LIC-LOCATION:Europe/Berlin
BEGIN:STANDARD
DTSTART:20251026T020000
TZOFFSETFROM:+0200
TZOFFSETTO:+0100
TZNAME:CET
END:STANDARD
END:VTIMEZONE
END:VCALENDAR