BEGIN:VCALENDAR
VERSION:2.0
PRODID:-//wp-events-plugin.com//7.2.3.1//EN
TZID:Europe/Berlin
X-WR-TIMEZONE:Europe/Berlin
BEGIN:VEVENT
UID:1277@xc-ski.de
DTSTART;TZID=Europe/Berlin;VALUE=DATE:20251129
DTEND;TZID=Europe/Berlin;VALUE=DATE:20251208
DTSTAMP:20251122T114125Z
URL:https://www.xc-ski.de/aktuelles/termine/ibu-biathlon-weltcup-oestersun
 d-schweden-3/
SUMMARY:IBU Biathlon Weltcup Oestersund (Schweden)
DESCRIPTION:Im schwedischen Östersund wird die Biathlon Weltcup Saison 202
 5/2026 eröffnet. Der erste Weltcup in der olympischen Saison erstreckt si
 ch über zwei Wochenenden...
ATTACH;FMTTYPE=image/jpeg:https://www.xc-ski.de/wp-content/uploads/2018/09
 /stadion_oslo.jpg
CATEGORIES:Biathlon-Weltcup,Weltcup
LOCATION:Östersunds Skistadion\, Ösk-vägen 7\, Östersund\, 83191\, Schw
 eden
GEO:63.1897608;14.657902700000022
X-APPLE-STRUCTURED-LOCATION;VALUE=URI;X-ADDRESS=Ösk-vägen 7\, Östersund\
 , 83191\, Schweden;X-APPLE-RADIUS=100;X-TITLE=Östersunds Skistadion:geo:6
 3.1897608,14.657902700000022
END:VEVENT
BEGIN:VTIMEZONE
TZID:Europe/Berlin
X-LIC-LOCATION:Europe/Berlin
BEGIN:STANDARD
DTSTART:20251026T020000
TZOFFSETFROM:+0200
TZOFFSETTO:+0100
TZNAME:CET
END:STANDARD
END:VTIMEZONE
END:VCALENDAR