BEGIN:VCALENDAR
VERSION:2.0
PRODID:-//wp-events-plugin.com//7.2.3.1//EN
TZID:Europe/Berlin
X-WR-TIMEZONE:Europe/Berlin
BEGIN:VEVENT
UID:1285@xc-ski.de
DTSTART;TZID=Europe/Berlin;VALUE=DATE:20260312
DTEND;TZID=Europe/Berlin;VALUE=DATE:20260316
DTSTAMP:20251122T115247Z
URL:https://www.xc-ski.de/aktuelles/termine/ibu-biathlon-weltcup-otepaeae-
 estland-2/
SUMMARY:IBU Biathlon Weltcup Otepää (Estland)
DESCRIPTION:Nach 2019 findet im Tehvandi Sports Center in Otepää (Estland
 ) zum zweiten Mal ein Biathlon Weltcup statt. Danach geht es zum Saisonfin
 ale nach Oslo...
ATTACH;FMTTYPE=image/jpeg:https://www.xc-ski.de/wp-content/uploads/2021/03
 /Feature11321cm069.jpg
CATEGORIES:Biathlon-Weltcup,Weltcup
LOCATION:Sportzentrum Tehvandi\, Sportzentrum Tehvandi\, Sportzentrum Tehva
 ndi\, Estland
GEO:58.053196;26.506742
X-APPLE-STRUCTURED-LOCATION;VALUE=URI;X-ADDRESS=Sportzentrum Tehvandi\, Spo
 rtzentrum Tehvandi\, Estland;X-APPLE-RADIUS=100;X-TITLE=Sportzentrum Tehva
 ndi:geo:58.053196,26.506742
END:VEVENT
BEGIN:VTIMEZONE
TZID:Europe/Berlin
X-LIC-LOCATION:Europe/Berlin
BEGIN:STANDARD
DTSTART:20251026T020000
TZOFFSETFROM:+0200
TZOFFSETTO:+0100
TZNAME:CET
END:STANDARD
END:VTIMEZONE
END:VCALENDAR