BEGIN:VCALENDAR
VERSION:2.0
PRODID:-//wp-events-plugin.com//7.2.3.1//EN
TZID:Europe/Berlin
X-WR-TIMEZONE:Europe/Berlin
BEGIN:VEVENT
UID:1155@xc-ski.de
DTSTART;TZID=Europe/Berlin;VALUE=DATE:20250313
DTEND;TZID=Europe/Berlin;VALUE=DATE:20250317
DTSTAMP:20250311T114830Z
URL:https://www.xc-ski.de/aktuelles/termine/ibu-biathlon-weltcup-pokljuka-
 slowenien-3/
SUMMARY:IBU Biathlon Weltcup Pokljuka (Slowenien)
DESCRIPTION:Der vorletzte Biathlon Weltcup der Saison 2024/25 findet in Slo
 wenien auf der Pokljuka statt...
ATTACH;FMTTYPE=image/jpeg:https://www.xc-ski.de/wp-content/uploads/2021/02
 /Feature09032014cm5.jpg
CATEGORIES:Biathlon-Weltcup,Weltcup
LOCATION:Stadion Pokljuka\, Srednja vas v Bohinju 165a\, Srednja vas v Bohi
 nju\, 4267\, Slowenien
GEO:46.3449029;13.92220789999999
X-APPLE-STRUCTURED-LOCATION;VALUE=URI;X-ADDRESS=Srednja vas v Bohinju 165a\
 , Srednja vas v Bohinju\, 4267\, Slowenien;X-APPLE-RADIUS=100;X-TITLE=Stad
 ion Pokljuka:geo:46.3449029,13.92220789999999
END:VEVENT
BEGIN:VTIMEZONE
TZID:Europe/Berlin
X-LIC-LOCATION:Europe/Berlin
BEGIN:STANDARD
DTSTART:20241027T020000
TZOFFSETFROM:+0200
TZOFFSETTO:+0100
TZNAME:CET
END:STANDARD
END:VTIMEZONE
END:VCALENDAR