BEGIN:VCALENDAR
VERSION:2.0
PRODID:-//wp-events-plugin.com//7.2.3.1//EN
TZID:Europe/Berlin
X-WR-TIMEZONE:Europe/Berlin
BEGIN:VEVENT
UID:1281@xc-ski.de
DTSTART;TZID=Europe/Berlin;VALUE=DATE:20260114
DTEND;TZID=Europe/Berlin;VALUE=DATE:20260119
DTSTAMP:20250521T072505Z
URL:https://www.xc-ski.de/aktuelles/termine/ibu-biathlon-weltcup-ruhpoldin
 g-deutschland-6/
SUMMARY:IBU Biathlon Weltcup Ruhpolding (Deutschland)
DESCRIPTION:Ruhpolding ist zweite Station des Biathlon-Weltcups im Neuen Ja
 hr...
ATTACH;FMTTYPE=image/jpeg:https://www.xc-ski.de/wp-content/uploads/2022/01
 /Feature140120et16818.jpg
CATEGORIES:Biathlon-Weltcup,Weltcup
LOCATION:Chiemgau Arena\, Biathlonzentrum 1\, Ruhpolding\, Deutschland
GEO:47.714302;12.645927000000029
X-APPLE-STRUCTURED-LOCATION;VALUE=URI;X-ADDRESS=Biathlonzentrum 1\, Ruhpold
 ing\, Deutschland;X-APPLE-RADIUS=100;X-TITLE=Chiemgau Arena:geo:47.714302,
 12.645927000000029
END:VEVENT
BEGIN:VTIMEZONE
TZID:Europe/Berlin
X-LIC-LOCATION:Europe/Berlin
BEGIN:STANDARD
DTSTART:20251026T020000
TZOFFSETFROM:+0200
TZOFFSETTO:+0100
TZNAME:CET
END:STANDARD
END:VTIMEZONE
END:VCALENDAR