BEGIN:VCALENDAR
VERSION:2.0
PRODID:-//wp-events-plugin.com//7.2.3.1//EN
TZID:Europe/Berlin
X-WR-TIMEZONE:Europe/Berlin
BEGIN:VEVENT
UID:1283@xc-ski.de
DTSTART;TZID=Europe/Berlin;VALUE=DATE:20260206
DTEND;TZID=Europe/Berlin;VALUE=DATE:20260223
DTSTAMP:20260129T140302Z
URL:https://www.xc-ski.de/aktuelles/termine/olympische-spiele-mailand-cort
 ina-2026-italien/
SUMMARY:Olympische Spiele Mailand/Cortina 2026 (Italien) Biathlon
DESCRIPTION:Die Olympischen Winterspiele 2026 werden in Italien ausgetragen
 . Elf Biathlonbewerbe finden in Antholz in der Südtirol Arena Alto Adige 
 statt... 
ATTACH;FMTTYPE=image/jpeg:https://www.xc-ski.de/wp-content/uploads/2018/01
 /Venue070214mf039.jpg
CATEGORIES:Olympische Winterspiele
LOCATION:Stadion Antholz\, Via Anterselva di Sopra 33\, 39030 Anterselva \,
  Italien
GEO:46.8844674;12.153672899999947
X-APPLE-STRUCTURED-LOCATION;VALUE=URI;X-ADDRESS=Via Anterselva di Sopra 33\
 , 39030 Anterselva \, Italien;X-APPLE-RADIUS=100;X-TITLE=Stadion Antholz:g
 eo:46.8844674,12.153672899999947
END:VEVENT
BEGIN:VTIMEZONE
TZID:Europe/Berlin
X-LIC-LOCATION:Europe/Berlin
BEGIN:STANDARD
DTSTART:20251026T020000
TZOFFSETFROM:+0200
TZOFFSETTO:+0100
TZNAME:CET
END:STANDARD
END:VTIMEZONE
END:VCALENDAR